BEGIN:VCALENDAR
VERSION:2.0
PRODID:-//Squarespace Inc/Squarespace 6//v6//EN
BEGIN:VEVENT
UID:56b11eddb654f9e64044da83@squarespace.com
DTSTAMP:20180131T042430Z
DTSTART:20180316T213000Z
DTEND:20180317T013000Z
SUMMARY:Movie\, Meditation + Meal
GEO:-34.065722;151.012664
LOCATION:Address given when you book in with Liz 0425 392 630\, Engadine\, 
 Australia
END:VEVENT
END:VCALENDAR
