BEGIN:VCALENDAR
VERSION:2.0
PRODID:-//Squarespace Inc/Squarespace 6//v6//EN
BEGIN:VEVENT
UID:56d525f23c44d83b5d4f3665@squarespace.com
DTSTAMP:20161114T034039Z
DTSTART:20161203T131500Z
DTEND:20161203T173000Z
SUMMARY:Vedic Rounding Meditation
END:VEVENT
END:VCALENDAR
