BEGIN:VCALENDAR
VERSION:2.0
PRODID:-//Squarespace Inc/Squarespace 6//v6//EN
BEGIN:VEVENT
UID:5753900fab48ded9a8e72bcf@squarespace.com
DTSTAMP:20170208T025118Z
DTSTART:20170326T180000Z
DTEND:20170326T203000Z
SUMMARY:WOMENS CHAKRA MEDITATION CIRCLE
END:VEVENT
END:VCALENDAR
