BEGIN:VCALENDAR
VERSION:2.0
PRODID:-//Squarespace Inc/Squarespace 6//v6//EN
BEGIN:VEVENT
UID:589a893b59cc6826c93c9403@squarespace.com
DTSTAMP:20170304T051911Z
DTSTART:20170317T020000Z
DTEND:20170317T030000Z
SUMMARY:The Conscious Club Presents - LIVING THE PLANT POWER WAY 
END:VEVENT
END:VCALENDAR
