BEGIN:VCALENDAR
VERSION:2.0
PRODID:-//Squarespace Inc/Squarespace 6//v6//EN
BEGIN:VEVENT
UID:58e5e7fc86e6c007e43936f1@squarespace.com
DTSTAMP:20170607T113247Z
DTSTART:20170628T220000Z
DTEND:20170629T020000Z
SUMMARY:Conscious Club presents - Happiness
END:VEVENT
END:VCALENDAR
