BEGIN:VCALENDAR
VERSION:2.0
PRODID:-//Squarespace Inc/Squarespace 6//v6//EN
BEGIN:VEVENT
UID:5937e18620099e753946c3c0@squarespace.com
DTSTAMP:20180321T033458Z
DTSTART:20180325T104500Z
DTEND:20180325T133000Z
SUMMARY:Sunrise\, Meditation & Breakfast           Everyone is invited. 
END:VEVENT
END:VCALENDAR
