BEGIN:VCALENDAR
VERSION:2.0
PRODID:-//Squarespace Inc/Squarespace 6//v6//EN
BEGIN:VEVENT
UID:5937e4b786e6c00238506943@squarespace.com
DTSTAMP:20170607T115437Z
DTSTART:20170709T000000Z
DTEND:20170709T020000Z
SUMMARY:Thom Knoles tour of Sydney & Melbourne 2017
END:VEVENT
END:VCALENDAR
