BEGIN:VCALENDAR
VERSION:2.0
PRODID:-//Squarespace Inc/Squarespace 6//v6//EN
BEGIN:VEVENT
UID:59549e9c440243d095326955@squarespace.com
DTSTAMP:20181215T023804Z
DTSTART:20190217T132000Z
DTEND:20190217T173000Z
SUMMARY:Half day Rounding Retreat for Vedic Meditators 
END:VEVENT
END:VCALENDAR
