BEGIN:VCALENDAR
VERSION:2.0
PRODID:-//Squarespace Inc/Squarespace 6//v6//EN
BEGIN:VEVENT
UID:5c14676c575d1f2511e7236e@squarespace.com
DTSTAMP:20190204T010144Z
DTSTART:20190210T110500Z
DTEND:20190210T140500Z
SUMMARY:Sunrise\, Meditation &amp\; Breakfast
END:VEVENT
END:VCALENDAR
