BEGIN:VCALENDAR
VERSION:2.0
PRODID:-//Squarespace Inc/Squarespace 6//v6//EN
BEGIN:VEVENT
UID:5acd9b43562fa7a9dc7b196d@squarespace.com
DTSTAMP:20181004T054402Z
DTSTART:20181118T102500Z
DTEND:20181118T132500Z
SUMMARY:Sunrise Meditation and Breakfast
END:VEVENT
END:VCALENDAR
