BEGIN:VCALENDAR
VERSION:2.0
PRODID:-//Squarespace Inc/Squarespace 6//v6//EN
BEGIN:VEVENT
UID:5b46d30d70a6adcc60909ebc@squarespace.com
DTSTAMP:20180712T041323Z
DTSTART:20180727T232000Z
DTEND:20180728T013000Z
SUMMARY:GURU PURNIMA
END:VEVENT
END:VCALENDAR
