BEGIN:VCALENDAR
VERSION:2.0
PRODID:-//Squarespace Inc/Squarespace 6//v6//EN
BEGIN:VEVENT
UID:5c58bd524e17b60aebb2046a@squarespace.com
DTSTAMP:20190210T064258Z
DTSTART:20190303T150000Z
DTEND:20190303T180000Z
SUMMARY:AYURVEDIC COOKING WORKSHOP
END:VEVENT
END:VCALENDAR
